BEGIN:VCALENDAR
VERSION:2.0
PRODID:-//Liposarcoma Support Network - ECPv6.15.20//NONSGML v1.0//EN
CALSCALE:GREGORIAN
METHOD:PUBLISH
X-ORIGINAL-URL:https://liposarcomasupport.org
X-WR-CALDESC:Events for Liposarcoma Support Network
REFRESH-INTERVAL;VALUE=DURATION:PT1H
X-Robots-Tag:noindex
X-PUBLISHED-TTL:PT1H
BEGIN:VTIMEZONE
TZID:America/New_York
BEGIN:DAYLIGHT
TZOFFSETFROM:-0500
TZOFFSETTO:-0400
TZNAME:EDT
DTSTART:20240310T070000
END:DAYLIGHT
BEGIN:STANDARD
TZOFFSETFROM:-0400
TZOFFSETTO:-0500
TZNAME:EST
DTSTART:20241103T060000
END:STANDARD
BEGIN:DAYLIGHT
TZOFFSETFROM:-0500
TZOFFSETTO:-0400
TZNAME:EDT
DTSTART:20250309T070000
END:DAYLIGHT
BEGIN:STANDARD
TZOFFSETFROM:-0400
TZOFFSETTO:-0500
TZNAME:EST
DTSTART:20251102T060000
END:STANDARD
BEGIN:DAYLIGHT
TZOFFSETFROM:-0500
TZOFFSETTO:-0400
TZNAME:EDT
DTSTART:20260308T070000
END:DAYLIGHT
BEGIN:STANDARD
TZOFFSETFROM:-0400
TZOFFSETTO:-0500
TZNAME:EST
DTSTART:20261101T060000
END:STANDARD
BEGIN:DAYLIGHT
TZOFFSETFROM:-0500
TZOFFSETTO:-0400
TZNAME:EDT
DTSTART:20270314T070000
END:DAYLIGHT
BEGIN:STANDARD
TZOFFSETFROM:-0400
TZOFFSETTO:-0500
TZNAME:EST
DTSTART:20271107T060000
END:STANDARD
END:VTIMEZONE
BEGIN:VEVENT
DTSTART;TZID=America/New_York:20260225T120000
DTEND;TZID=America/New_York:20260225T120000
DTSTAMP:20260423T134411
CREATED:20260113T235240Z
LAST-MODIFIED:20260323T142543Z
UID:1194-1772020800-1772020800@liposarcomasupport.org
SUMMARY:Histotripsy Demystified - Feb 25
DESCRIPTION:REGISTER\n\n\nThe Life Raft Group is proud to present “Histotripsy Demystified: Truths and Misconceptions Explained\,” taking place on February 25\, 2026\, from 12:00–1:30 PM ET. \nThis webinar features an expert panel moderated by Dr. Elizabeth Lilley of Brigham and Women’s Hospital with Dr. Hop Tran Cao (MD Anderson Cancer Center)\, Dr. Suzanne George (Dana-Farber Cancer Institute)\, Dr. Christina Angeles (University of Michigan)\, Dr. Alicia Gingrich (University of Nevada/Renown Health System) and Dr. Jiping Wang and Dr. Chandrajit Raut (Brigham and Women’s Hospital/Harvard Medical School). \nThis virtual discussion is open to patient and caregivers of ALL sarcoma types. \nHistotripsy is a noninvasive treatment that uses focused ultrasound to mechanically destroy targeted tissue without surgery\, incisions\, or radiation. The procedure has only recently moved into human clinical trials and clinical use\, with the first FDA clearance for treating liver tumors granted in October 2023 and broader study and adoption continuing through the mid-2020s. \n\n\nThis virtual panel discussion will bring together experts from multiple institutions to share diverse perspectives on histotripsy\, including how the technology works\, where the science currently stands\, and common myths and misconceptions. Because histotripsy is being explored across multiple tumor types\, the discussion will be relevant and beneficial to all sarcoma patients seeking to better understand emerging treatment approaches and their potential future role in care. A moderated Q&A segment will follow the discussion. \n\nThese webinars are for informational purposes only and should not replace professional medical advice. Always consult your healthcare provider before making any treatment or lifestyle changes. If you have questions or comments\, please reach out to truggiero@liferaftgroup.org \n\n  \nAbout Our Presenters:\nModerator: Dr. Elizabeth Lilley is a surgical oncologist at Brigham and Women’s Hospital specializing in the management of soft tissue sarcomas\, including gastrointestinal stromal tumors (GIST)\, with a special focus on robotic and minimally invasive surgical techniques. Dr. Lilley is triple board certified in surgical oncology\, general surgery\, and palliative medicine. Her research focuses on improving the quality of surgical care for patients with metastatic and recurrent cancers by improving communication surrounding the goals and outcomes of surgery. \n Dr. Lilley earned a bachelor’s degree in neuroscience from Lafayette College\, a master’s of public health from Columbia University\, and a medical degree from Rutgers. She completed general surgery residency at Brigham and Women’s Hospital\, followed by the Harvard Interdisciplinary Palliative Care Fellowship. Upon completing fellowship training in Complex General Surgical Oncology at MD Anderson Cancer Center\, she joined the faculty at Brigham and Women’s Hospital and Harvard Medical School\, where she now leads a health services research program centered on the intersection of surgical oncology and palliative care. Her combined expertise in both sarcoma surgery and palliative medicine uniquely positions her to improve the person-centered care of patients with advanced sarcomas. \n  \nDr. Christina Angeles is an Associate Professor with Tenure of Surgery\, Associate Professor of Dermatology\, and Faculty Member in the Cancer Biology PhD Program at the University of Michigan in the Division of Surgical Oncology. She earned her medical degree at Tufts University School of Medicine. She completed general surgery residency at New York Presbyterian-Weill Cornell Medical Center. While in residency she completed a two-year basic/translational science Surgical Oncology Research Fellowship at Memorial Sloan-Kettering Cancer Center (MSKCC) focusing on the molecular biology and novel therapeutics for sarcoma. After residency\, Dr. Angeles returned to MSKCC and completed a clinical Complex Surgical Oncology Fellowship. Dr. Angeles is board-certified in both General Surgery and Complex General Surgical Oncology. She is the Director of the Regional Cancer Therapies Clinic at University of Michigan/Rogel Cancer Center. \nDr. Angeles is a nationally recognized surgeon-scientist dedicated to advancing cancer care through innovative research and compassionate patient care. As the lead investigator for multiple clinical trials at the Rogel Cancer Center\, she is at the forefront of developing new treatments for melanoma and sarcoma. Her laboratory studies the immune system’s role in fighting cancer\, with a special focus on how resident memory T cells can help create long-lasting protection against tumors. By combining basic science and translational research\, Dr. Angeles and her team are working to transform discoveries in the lab into effective new therapies for patients. Dr. Angeles’s research has been supported by the American Cancer Society\, the Melanoma Research Alliance\, the Society of Surgical Oncology\, and the National Institutes of Health’s National Cancer Institute (NCI-NIH). \n  \nDr. Suzanne George is the Division Chief of the Sarcoma Center at Dana-Farber Cancer Institute where leads a team focused on research and clinical care of patients with sarcomas and GIST. She has an extensive research experience in clinical trials and drug development and cares for patient from across New England\, the US and internationally. \n  \n  \nDr. Alicia Gingrich is a surgical oncologist at the University of Nevada\, Reno. She attended medical school at the University of Kansas prior to completing general surgery residency at the University of California\, Davis. She trained at MD Anderson for her complex general surgical oncology fellowship. Dr. Gingrich’s clinical practice focuses on soft tissue sarcoma and GIST as well as hepatobiliary tumors. The University of Nevada\, Reno/Renown were one of the early adopters of Histotripsy and have been performing this procedure for 2 years. She utilizes Histotripsy for select patients with liver tumors. \n  \n  \nDr. Chandrajit P. Raut is a dedicated surgical oncologist who specializes in the multidisciplinary care of patients with soft tissue sarcoma.  He is a prolific researcher who has received federal funding to investigate sarcoma tumor genetics and identify strategies at reducing sarcoma recurrence rates.  Additionally\, he has served as co-PI or institutional PI on several US and international phase 2 or phase 3 clinical trials evaluating neoadjuvant or adjuvant therapies in various sarcomas. \n\nDr. Raut is a graduate of Stanford University\, University of Oxford\, and Harvard Medical School.  He completed his general surgery residency at Massachusetts General Hospital and surgical oncology fellowship at M.D. Anderson Cancer Center. \nDr. Raut currently serves as Chair of the AJCC Soft Tissue Sarcoma Staging Panel (9th edition)\, Co-Chair of the Surgery Committee in the cancer cooperative group Alliance for Clinical Trials in Oncology\, and Treasurer on the Executive Board of the Connective Tissue Oncology Society.  In 2013\, he co-founded the Transatlantic Australasian Retroperitoneal Sarcoma Working Group.  He is the former Program Director of the Mass General Brigham/Dana-Farber Complex General Surgical Oncology Fellowship Program at Harvard Medical School.  He serves as Section Editor for sarcoma in the journals Cancer and Surgical Oncology Insights.  He has authored over 300 papers and over 30 book chapters. \n  \n\nDr. Hop Tran Cao is an Associate Professor and Vice-Chair of Clinical Operations in the Department of Surgical Oncology at the University of Texas MD Anderson Cancer Center\, where he specializes in the management of hepatobiliary tumors. He is an expert in minimally invasive surgical techniques and chairs the Minimally Invasive and New Technology in Oncologic Surgery governing committee at MD Anderson. He also chairs the multidisciplinary Histotripsy Steering Committee. \nDr. Tran Cao’s research focuses on improving cancer care quality and precision. He completed his General Surgery residency at the University of California San Diego and his fellowship in Complex General Surgical Oncology at MD Anderson. \n  \nDr. Jiping Wang is a surgical oncologist at Brigham and Women’s Hospital. He specializes in treating gastric\, liver\, and pancreatic cancer and soft tissue sarcoma. He has a special interest in using minimally invasive platforms to perform cancer surgeries. In this video he explains robotic surgery for patients.
URL:https://liposarcomasupport.org/event/histotripsy-demystified/
CATEGORIES:Education,Webinar
END:VEVENT
BEGIN:VEVENT
DTSTART;TZID=America/New_York:20260127T120000
DTEND;TZID=America/New_York:20260127T120000
DTSTAMP:20260423T134411
CREATED:20251219T213919Z
LAST-MODIFIED:20260323T142251Z
UID:1158-1769515200-1769515200@liposarcomasupport.org
SUMMARY:Radiation in Liposarcoma - Jan 27
DESCRIPTION:Dr. Katie Lee\, a radiation oncologist at the Mayo Clinic in Rochester\, Minnesota\, will discuss the critical role of radiation therapy in the treatment of liposarcoma. She will review current radiation approaches across liposarcoma subtypes\, key factors that guide treatment timing and dosing\, and advances in techniques designed to improve outcomes while minimizing side effects.  \nIf you would like to submit questions prior to the webinar\, you can forward them to truggiero@liferaftgroup.org \nREGISTER\nThese webinars are for informational purposes only and should not replace professional medical advice. Always consult your healthcare provider before making any treatment or lifestyle changes. If you have questions or comments\, please reach out to truggiero@liferaftgroup.org \n  \nAbout Our Presenter:\nDr. Katie N. Lee is an Assistant Professor of Radiation Oncology at the Mayo Clinic in Rochester\, Minnesota\, where she specializes in the treatment of sarcoma and thoracic cancers. Dr. Lee graduated summa cum laude from the University of Minnesota with dual degrees in biochemistry and chemistry. She was named a Rhodes Scholar and attended the University of Oxford where she received a M.Sc. in Immunology. She then earned her M.D. and Ph.D. from Harvard Medical School as part of the NIH-funded Medical Scientist Training Program. Dr. Lee completed residency training in the Harvard Radiation Oncology Program at Brigham and Women’s Hospital\, Dana-Farber Cancer Institute\, Massachusetts General Hospital\, and Boston Children’s Hospital\, where she served as Co-Chief of Mentorship.   \nAs a physician-scientist with deep expertise in translational oncology\, Dr. Lee leads Mayo Clinic’s biobanking initiative for sarcoma blood and tissue samples and is developing clinical trials that leverage advanced MRI and radiation techniques\, artificial intelligence\, and molecular biomarkers to improve and personalize therapy for patients with soft tissue and retroperitoneal sarcomas. Her research has helped shape emerging approaches in hypofractionated radiation therapy for retroperitoneal sarcoma and has contributed important insights into radiographic predictors of treatment response\, metastatic risk\, and radiation-related toxicities. Nationally\, she serves on the NRG Oncology Sarcoma and Early Career Mentorship Subcommittees and is a core member of the NRG Lung Cancer Committee and collaborates broadly across institutions to advance sarcoma clinical trials. Dedicated to improving outcomes for sarcoma patients\, Dr. Lee integrates compassionate clinical care with innovation at the intersection of imaging\, biology\, and technology. 
URL:https://liposarcomasupport.org/event/radiation-in-liposarcoma/
CATEGORIES:Education,Webinar
ORGANIZER;CN="Tara Ruggiero":MAILTO:tuggiero@liposarcomasupport.org
END:VEVENT
BEGIN:VEVENT
DTSTART;TZID=America/New_York:20251104T110000
DTEND;TZID=America/New_York:20251104T110000
DTSTAMP:20260423T134411
CREATED:20251015T160904Z
LAST-MODIFIED:20260323T142642Z
UID:1029-1762254000-1762254000@liposarcomasupport.org
SUMMARY:Liposarcoma Uncovered
DESCRIPTION:Insights from 11K+ Patients in the NETSARC+ Registry\nJoin Professor Jean-Yves Blay as he presents findings from the largest nationwide study of liposarcomas\, encompassing 11\,000+ patients from the NETSARC+ registry. This session will explore the clinical presentation\, management\, and outcomes of the diverse histological subtypes of liposarcoma\, including well-differentiated\, dedifferentiated\, myxoid\, pleomorphic\, and rarer forms. Attendees will gain insights into age- and sex-related differences in incidence and prognosis\, as well as the importance of specialized sarcoma centers for optimal patient care.  \nThese webinars are for informational purposes only and should not replace professional medical advice. Always consult your healthcare provider before making any treatment or lifestyle changes. If you have questions or comments\, please reach out to truggiero@liposarcomasupport.org  \nREGISTER\n  \nAbout Our Presenter: \nProfessor Jean-Yves Blay\nLe Centre Léon Bérard\, Lyon\, France \nJean-Yves Blay\, oncologist\, is professor of Medicine at the University of Lyon I\, Director General of the Cancer Center Léon Bérard in Lyon\, and President of the French Federation of CCC Unicancer. His work focuses on sarcoma\, rare cancers\, guiding targeted treatments using genomics\, and immuno-oncology. He is a researcher at the Cancer Research Center of Lyon\, director of SIRIC LYRICAN+\, President of the French Sarcoma Group and the Sarcoma expert network NETSARC+\, director of ERN-EURACAN of the European Commission\, Director of Public Policies of ESMO\, and former president of the EORTC. He has co-authored more than 1000 articles & “Highly cited Researcher” since 2019. \n 
URL:https://liposarcomasupport.org/event/liposarcoma-uncovered/
CATEGORIES:Education,Webinar
ORGANIZER;CN="Liposarcoma Support Network":MAILTO:support@liposarcomasupport.org
END:VEVENT
BEGIN:VEVENT
DTSTART;TZID=America/New_York:20250929T123000
DTEND;TZID=America/New_York:20250929T123000
DTSTAMP:20260423T134411
CREATED:20250813T183223Z
LAST-MODIFIED:20260323T142725Z
UID:915-1759149000-1759149000@liposarcomasupport.org
SUMMARY:Myxoid Liposarcoma Panel
DESCRIPTION:LSN is partnering with Duke Sarcoma Center to present  “Myxoid Liposarcoma: Insights Into A Unique Sarcoma” with Dr. Brian Brigman\, Dr. William Jeck\, Dr. Nicole Larrier & Dr. Richard Riedel of Duke Sarcoma Center\, Duke Cancer Institute on September 29\, at 12:30PM ET. \nJoin us for an expert-led discussion focused on Myxoid Liposarcoma\, a rare and distinctive subtype of soft tissue sarcoma. Gain valuable insights into its pathology\, surgical management\, radiation therapy\, and systemic treatment. A question and answer session will follow the presentation. \nThese webinars are for informational purposes only and should not replace professional medical advice. Always consult your healthcare provider before making any treatment or lifestyle changes. If you have questions or comments\, please reach out to truggiero@liposarcomasupport.org \nREGISTER\n 
URL:https://liposarcomasupport.org/event/myxoid-liposarcoma/
CATEGORIES:Education,Webinar
ORGANIZER;CN="Tara Ruggiero":MAILTO:tuggiero@liposarcomasupport.org
END:VEVENT
BEGIN:VEVENT
DTSTART;TZID=America/New_York:20250812T120000
DTEND;TZID=America/New_York:20250812T120000
DTSTAMP:20260423T134411
CREATED:20250707T193554Z
LAST-MODIFIED:20260323T142755Z
UID:834-1755000000-1755000000@liposarcomasupport.org
SUMMARY:Making Cents of Caregiving
DESCRIPTION:The Life Raft Group presents  “Making Cents of Caregiving” with Al Berg of the AARP NJ Speakers Bureau on August 12\, at 12PM ET. In this informative and educational session\, you will be introduced to essential information caregivers need to more easily manage the financial complexities of caregiving. Over the course of the presentation\, you will learn how to incorporate financial tips and resources into your caregiving. By the end of the session\, we hope you have the confidence to make your own financial plans for your loved one’s care and well-being. A question and answer session will follow the presentation. \nThese webinars are for informational purposes only and should not replace professional medical advice. Always consult your healthcare provider before making any treatment or lifestyle changes. If you have questions or comments\, please reach out to rpauley@liferaftgroup.org \nREGISTER\nAbout Our Presenter: \nAl Berg\nAARP NJ Speakers Bureau \nAl Berg is a volunteer with the AARP NJ Speakers Bureau\, giving presentations on a variety of topics of interest to older Americans.  During the day\, Al heads up cybersecurity for a major entertainment company. When he is not fighting off hackers\, he is an EMT with the Weehawken Volunteer First Aid Squad and lives in Weehawken with his wife and a very spoiled cat. \n 
URL:https://liposarcomasupport.org/event/making-cents-of-caregiving/
CATEGORIES:Education,Webinar
END:VEVENT
BEGIN:VEVENT
DTSTART;TZID=America/New_York:20250630T120000
DTEND;TZID=America/New_York:20250630T120000
DTSTAMP:20260423T134411
CREATED:20250623T180645Z
LAST-MODIFIED:20250623T180659Z
UID:810-1751284800-1751284800@liposarcomasupport.org
SUMMARY:Navigating Financial Support & Medicare Changes
DESCRIPTION:The Life Raft Group presents “Navigating Financial Support & Medicare Changes: What Patients Need to Know in 2025” with Jennifer Noonan of Accessia Health to present to our patient and caregiver community on June 30th at 12PM ET. During this virtual presentation\, Ms. Noonan will cover key updates including the Medicare Prescription Payment Plan (M3P)\, cost-sharing “smoothing\,” and how charitable financial assistance programs can support individuals navigating high out-of-pocket costs. Learn what these changes mean for patients and caregivers — and how to prepare for what’s ahead. A Q&A segment will follow Ms. Noonan’s presentation. \nThese webinars are for informational purposes only and should not replace professional medical advice. Always consult your healthcare provider before making any treatment or lifestyle changes. If you have questions or comments\, please reach out to rpauley@liferaftgroup.org \nREGISTER\nAbout Our Presenter: \nJennifer Noonan\nAccessia Heath \nJennifer Noonan\, Vice President of Clinical Strategy & Patient Engagement at Accessia Health\, is a dedicated healthcare professional with 25+ years of clinical nursing experience. Her vast clinical management background spans diverse healthcare settings\, showcasing her expertise in program design and service delivery under rigorous regulations. Her career began in emergency medicine in Louisville\, KY\, where she spent 17 years in leadership roles and contributing to EMR clinical development and implementation. Transitioning into hospice and palliative care in 2014\, Jennifer excelled in leadership positions for both adult and pediatric patients. A resolute academic\, Jennifer holds degrees from Kentucky State University and Western Governors University. She was appointed to the National Association of Specialty Pharmacy’s Board of Directors in September 2023. Beyond work\, she is a family-oriented martial arts enthusiast\, hiker\, and avid traveler. \n 
URL:https://liposarcomasupport.org/event/navigating-financial-support/
CATEGORIES:Education,Webinar
END:VEVENT
BEGIN:VEVENT
DTSTART;TZID=America/New_York:20250513T120000
DTEND;TZID=America/New_York:20250513T120000
DTSTAMP:20260423T134411
CREATED:20250401T164034Z
LAST-MODIFIED:20260323T142826Z
UID:542-1747137600-1747137600@liposarcomasupport.org
SUMMARY:Holistic Approaches to Healing in Harmony
DESCRIPTION:The Life Raft Group presents “Holistic Approaches to Healing in Harmony” with Certified Wellness Coach & Patient Advocate Carolina Williams on May 13th at 12PM ET. This virtual session will blend mindfulness practices with vibrational living to support cancer patients and their caregivers in navigating the emotional and energetic challenges of healing. Through guided meditations\, breathwork\, and energy-awareness techniques\, participants will learn how to cultivate inner peace\, resilience\, and a healing mindset. Discover how vibrational frequencies influence well-being\, how to shift energy for emotional balance\, and how to create a supportive environment that fosters deep healing for both patients and caregivers. \nREGISTER\nAbout Our Presenter: \nAfter facing Gastrointestinal Stromal Tumor (GIST)\, Carolina experienced an instantaneous remission—a profound moment that reinforced the power of mindfulness\, energy healing\, and vibrational living. While her healing journey included deep spiritual work\, meditation\, and energy alignment\, she also acknowledges the role of Gleevec\, the targeted therapy that supported her recovery. This integrative approach—combining science and vibrational medicine—became the foundation of her work. \nNow a certified Wellness Coach\, Reiki Master\, and Bio-Well Energy Field Practitioner\, Carolina is passionate about guiding cancer patients and caregivers toward inner peace\, resilience\, and healing. She teaches practical tools that support both emotional and physical well-being\, helping others navigate their journeys with greater strength\, hope\, and balance. \n  \n 
URL:https://liposarcomasupport.org/event/holistic-approaches-to-healing/
CATEGORIES:Education,Webinar
END:VEVENT
BEGIN:VEVENT
DTSTART;TZID=America/New_York:20250506T150000
DTEND;TZID=America/New_York:20250506T150000
DTSTAMP:20260423T134411
CREATED:20250403T181408Z
LAST-MODIFIED:20260323T142851Z
UID:594-1746543600-1746543600@liposarcomasupport.org
SUMMARY:Los beneficios de los cuidados paliativos
DESCRIPTION:The Life Raft Group presenta “Vive tu vida al máximo: Los beneficios de los cuidados paliativos” junto a Olivia Tigre-Nerimora de Stanford Health Care\, el cual se llevará a cabo el 6 de mayo a las 3 p.m.\, hora del este. Durante esta presentación virtual\, la Sra. Tigre-Nerimora compartirá formas de vivir al máximo con un enfoque holístico y centrado en las personas\,  hablará también sobre síntomas físicos\, así como sobre el bienestar emocional y espiritual. Usted también aprenderá sobre  los cuidados paliativos\, y de cómo esta especialidad médica puede brindarle un apoyo adicional y mejorar su calidad de vida. Después de la presentación\, habrá una sesión de preguntas y respuestas. \nREGISTER\nAcerca de Nuestra Presentadora: \n \nOlivia Tigre Nerimora se desempeña actualmente como Gerente de Proyectos para el Centro de Excelencia en Cuidados Paliativos\, Olivia supervisa proyectos destinados a promover la educación y la concientización sobre los cuidados paliativos especializados. Sus esfuerzos enfatizan el aumento de la participación comunitaria\, \n  \n 
URL:https://liposarcomasupport.org/event/beneficios-de-los-cuidados-paliativos/
CATEGORIES:Education,Webinar
END:VEVENT
BEGIN:VEVENT
DTSTART;TZID=America/New_York:20250506T140000
DTEND;TZID=America/New_York:20250506T140000
DTSTAMP:20260423T134411
CREATED:20250403T181412Z
LAST-MODIFIED:20260323T142951Z
UID:588-1746540000-1746540000@liposarcomasupport.org
SUMMARY:The Benefits of Palliative Care
DESCRIPTION:The Life Raft Group presents “Live Your Best Life – The Benefits of Palliative Care” with Dr. Grant Smith of Stanford Health Care on May 6th at 2PM ET. During this virtual presentation\, Dr. Smith will share ways to live your best life using a holistic\, person-centered approach. During this workshop\, Dr. Smith will talk about physical symptoms as well as emotional and spiritual well-being. You’ll also learn about the medical specialty\, called palliative care\, and how it can give you an extra level of support and improve your quality of life. A question and answer session will follow the presentation. \nREGISTER\nAbout Our Presenter: \nGrant Smith\, MD is a palliative care physician and Clinical Associate Professor of Medicine at the Stanford School of Medicine. He is the medical director of the Stanford Palliative Care Community Partnerships Team. He received his medical degree from Harvard Medical School and completed his residency in internal medicine and fellowship in hospice and palliative medicine at the University of California\, San Francisco. As part of the Stanford faculty\, he is an attending physician on the palliative care inpatient service and in the outpatient palliative care clinic in Palo Alto. \n  \n 
URL:https://liposarcomasupport.org/event/benefits-of-palliative-care/
CATEGORIES:Education,Webinar
END:VEVENT
END:VCALENDAR